BEGIN:VCALENDAR
VERSION:2.0
PRODID:icalendar-ruby
CALSCALE:GREGORIAN
METHOD:PUBLISH
BEGIN:VEVENT
DTSTAMP:20260421T152005Z
UID:10-425677@pennsborocog.com
DTSTART:20260802T140000Z
DTEND:20260802T153000Z
CLASS:PUBLIC
CREATED:20260421T105335
DESCRIPTION:Join Us for Sunday Morning Worship at Pennsboro Church of God\n
 We invite you to join us each week for Sunday Morning Worship at Pennsboro
  Church of God—a time to gather together in Spirit-filled praise\, heart
 felt prayer\, and life-changing teaching from God’s Word.\nLed by Pastor
  Keaton Thibeault\, our services are rooted in biblical truth and Pentecos
 tal power\, offering a space where you and your family can experience the 
 presence of God and grow in your faith.\nService Time:Sundays at 10:00 AM\
 nWe welcome individuals and families from Pennsboro\, Harrisville\, Ellenb
 oro\, Cairo\, West Union\, St. Marys\, Parkersburg\, Clarksburg\, and surr
 ounding areas to worship with us.\nCome as you are—and encounter the pre
 sence of God.
LAST-MODIFIED:20260421T105335
LOCATION:
SUMMARY:Sunday Morning Service
URL;VALUE=URI:https://pennsborocog.com/events/sunday-morning-service/2026-0
 8-02
ATTACH;FILENAME=Sunday-Morning-Service.jpg;FMTTYPE=image/jpeg:https://dq5pw
 pg1q8ru0.cloudfront.net/2025/03/18/22/11/07/6b001f6f-7ec4-4577-9928-1d4355
 4ccafc/Sunday-Morning-Service.jpg
END:VEVENT
END:VCALENDAR
