BEGIN:VCALENDAR
VERSION:2.0
PRODID:icalendar-ruby
CALSCALE:GREGORIAN
METHOD:PUBLISH
BEGIN:VEVENT
DTSTAMP:20260425T202423Z
UID:12-434325@pennsborocog.com
DTSTART:20260806T223000Z
DTEND:20260806T233000Z
CLASS:PUBLIC
CREATED:20260425T134357
DESCRIPTION:Join Us for Celebrate Recovery at Pennsboro Church of God\nIf y
 ou're seeking healing from life’s hurts\, habits\, or hang-ups\, we invi
 te you to take the first step through Celebrate Recovery at Pennsboro Chur
 ch of God.\nLed by Lori Dunlap\, this Christ-centered 12-step recovery pro
 gram offers a safe\, supportive\, and confidential environment where you c
 an begin your journey toward spiritual\, emotional\, and personal healing.
 \nWhether you're overcoming addiction\, struggling with anxiety\, processi
 ng grief\, or seeking emotional renewal\, Celebrate Recovery is for you. T
 hrough honest community\, biblical teaching\, and the power of Jesus Chris
 t\, you can experience lasting freedom and restoration.\nCelebrate Recover
 y Time:Thursdays at 6:30 PM\nWe welcome individuals from Pennsboro\, Harri
 sville\, Ellenboro\, Cairo\, West Union\, St. Marys\, Parkersburg\, Clarks
 burg\, and surrounding areas.\nYou don’t have to walk this journey alone
 —healing begins here.
LAST-MODIFIED:20260425T134357
LOCATION:
SUMMARY:Celebrate Recovery
URL;VALUE=URI:https://pennsborocog.com/events/celebrate-recovery--12/2026-0
 8-06
ATTACH;FILENAME=Pennsboro-Intro-Sides-%281%29.jpg;FMTTYPE=image/jpeg:https:
 //dq5pwpg1q8ru0.cloudfront.net/2025/03/18/22/24/29/ac7befac-59a6-4da2-99e5
 -5398ec4828b0/Pennsboro-Intro-Sides-%25281%2529.jpg
END:VEVENT
END:VCALENDAR
