BEGIN:VCALENDAR
VERSION:2.0
PRODID:icalendar-ruby
CALSCALE:GREGORIAN
METHOD:PUBLISH
BEGIN:VEVENT
DTSTAMP:20260421T153554Z
UID:13-425938@pennsborocog.com
DTSTART:20260923T220000Z
DTEND:20260923T230000Z
CLASS:PUBLIC
CREATED:20260421T105336
DESCRIPTION:Join Us for Weekly Bible Study at Pennsboro Church of God\nLook
 ing for a place to study the Bible in Pennsboro\, West Virginia? At Pennsb
 oro Church of God\, we invite you to grow in your understanding of God’s
  Word through our weekly Bible Study\, led by Pastor Keaton Thibeault or K
 elseymarie Thibeault.\nEach week\, we explore practical\, Bible-based less
 ons that will strengthen your faith and equip you for everyday life. Wheth
 er you're new to the Bible or have studied it for years\, you'll find a we
 lcoming environment where questions are encouraged\, Scripture is central\
 , and lives are changed.\n Bible Study Time:Wednesdays at 6:00 PM\nWe welc
 ome individuals and families from Pennsboro\, Harrisville\, Ellenboro\, Ca
 iro\, West Union\, and surrounding areas to join us for an evening of wors
 hip\, learning\, and spiritual growth.
LAST-MODIFIED:20260421T105336
LOCATION:
SUMMARY:Bible Study
URL;VALUE=URI:https://pennsborocog.com/events/bible-study--13/2026-09-23
ATTACH;FILENAME=Wednesday-Bible-Study.jpg;FMTTYPE=image/jpeg:https://dq5pwp
 g1q8ru0.cloudfront.net/2025/03/18/22/27/28/30c8a5fa-3577-411c-aaf4-4c03574
 b297c/Wednesday-Bible-Study.jpg
END:VEVENT
END:VCALENDAR
